BEGIN:VCALENDAR
VERSION:2.0
PRODID:-//Welcome to the VOICES COST Action CA20137 - ECPv6.15.11//NONSGML v1.0//EN
CALSCALE:GREGORIAN
METHOD:PUBLISH
X-WR-CALNAME:Welcome to the VOICES COST Action CA20137
X-ORIGINAL-URL:https://gendervoices.eu
X-WR-CALDESC:Events for Welcome to the VOICES COST Action CA20137
REFRESH-INTERVAL;VALUE=DURATION:PT1H
X-Robots-Tag:noindex
X-PUBLISHED-TTL:PT1H
BEGIN:VTIMEZONE
TZID:UTC
BEGIN:STANDARD
TZOFFSETFROM:+0000
TZOFFSETTO:+0000
TZNAME:UTC
DTSTART:20210101T000000
END:STANDARD
END:VTIMEZONE
BEGIN:VEVENT
DTSTART;VALUE=DATE:20220531
DTEND;VALUE=DATE:20220601
DTSTAMP:20260425T123350
CREATED:20220429T183128Z
LAST-MODIFIED:20220509T091206Z
UID:398-1653955200-1654041599@gendervoices.eu
SUMMARY:End call for proposals - Summer School 2022
DESCRIPTION:
URL:https://gendervoices.eu/event/call-for-proposals-summer-school-2022/
LOCATION:Online
END:VEVENT
END:VCALENDAR